BEGIN:VCALENDAR
VERSION:2.0
PRODID:-//Creattivati.ch - ECPv5.13.0//NONSGML v1.0//EN
CALSCALE:GREGORIAN
METHOD:PUBLISH
X-WR-CALNAME:Creattivati.ch
X-ORIGINAL-URL:https://creattivati.org
X-WR-CALDESC:Events for Creattivati.ch
REFRESH-INTERVAL;VALUE=DURATION:PT1H
X-Robots-Tag:noindex
X-PUBLISHED-TTL:PT1H
BEGIN:VTIMEZONE
TZID:Europe/Rome
BEGIN:DAYLIGHT
TZOFFSETFROM:+0100
TZOFFSETTO:+0200
TZNAME:CEST
DTSTART:20250330T010000
END:DAYLIGHT
BEGIN:STANDARD
TZOFFSETFROM:+0200
TZOFFSETTO:+0100
TZNAME:CET
DTSTART:20251026T010000
END:STANDARD
BEGIN:DAYLIGHT
TZOFFSETFROM:+0100
TZOFFSETTO:+0200
TZNAME:CEST
DTSTART:20260329T010000
END:DAYLIGHT
BEGIN:STANDARD
TZOFFSETFROM:+0200
TZOFFSETTO:+0100
TZNAME:CET
DTSTART:20261025T010000
END:STANDARD
END:VTIMEZONE
BEGIN:VEVENT
DTSTART;TZID=Europe/Rome:20250328T170000
DTEND;TZID=Europe/Rome:20251003T100000
DTSTAMP:20260424T123520
CREATED:20250401T123924Z
LAST-MODIFIED:20251128T112022Z
UID:5931-1743181200-1759485600@creattivati.org
SUMMARY:I FIORI HANNO SEMPRE RAGIONE
DESCRIPTION:Creattivati\, in collaborazione con l’Hotel Admiral di Lugano\, presenta la mostra “I FIORI HANNO SEMPRE RAGIONE” di Roberta Tabet.\nC’è una saggezza silenziosa nei fiori\, un’armonia segreta che resiste al disordine del mondo. In questa mostra\, i fiori non sono semplicemente soggetti: sono presenze.Appaiono sulla tela come visioni interiori\, come frammenti emotivi che prendono forma attraverso il colore\, il gesto\, l’istinto. Il gesto pittorico — ora istintivo\, ora meditato — si fa linguaggio emotivo.\nLe cromie\, accese e contrastanti\, si rincorrono come pensieri non detti\, come tensioni in cerca di quiete. Ogni opera è una soglia\, un punto di passaggio tra l’apparenza e l’invisibile\, tra ciò che si mostra e ciò che si sente. È un viaggio dell’anima che si compie per immagini\, tra equilibrio e dissonanza\, tra silenzi e fioriture inattese.\nIl titolo della mostra\, omaggio all’omonimo romanzo di Roberta Schira\, ne raccoglie l’eco simbolica: anche qui\, i fiori diventano guida e specchio\, attraversamento e possibilità. Segni di un tempo interiore.\nDa aprile a settembre 2025 \n\n\n\n\nUn progetto a cura di Creattivati\, che sostiene e promuove i creativi di professione della Svizzera italiana.\n\nLa mostra è visitabile nella hall dell’Hotel Admiral di Lugano\, Via Geretta 15\, 6900 Lugano.\n\n\n\n\n\n\n\n 
URL:https://creattivati.org/evento/fiori-di-roberta-tabet-presso-lhotel-admiral-di-lugano/
LOCATION:https://www.luganohoteladmiral.com/\, Via Geretta 15\, Lugano
CATEGORIES:Esposizioni
ATTACH;FMTTYPE=image/jpeg:https://creattivati.org/wp-content/uploads/2025/04/BANNER_sito-copia.jpg
END:VEVENT
BEGIN:VEVENT
DTSTART;TZID=Europe/Rome:20250606T180000
DTEND;TZID=Europe/Rome:20250711T100000
DTSTAMP:20260424T123520
CREATED:20250602T075159Z
LAST-MODIFIED:20250924T101042Z
UID:6096-1749232800-1752228000@creattivati.org
SUMMARY:33x10
DESCRIPTION:Mostra collettiva a cura dell’Associazione culturale no profit Creattivati in collaborazione con Liquid Sound Records \nArtisti partecipanti: Andrea Angelino Catella\, Ivan Artucovich\, BahcLab\, Giuseppe Giannattasio\, Matteo Gilardi\, Gloria Guidi\, Valentina Mazza\, Tiziana Mucchiani\, Patrizia Stierli\, Alexandra von Burg \nDal 06.06 all’11.07.2025 \nL’idea nasce dall’incontro tra Gianni Bassi – collezionista di vinili da oltre 30 anni\, DJ da più di 10 anni e fondatore del nuovo spazio musicale Liquid Sound Records – e Annalisa d’Apice\, architetto e curatrice per Creattivati\, associazione impegnata nella promozione dell’arte e della creatività urbana. Insieme danno vita a una mostra che trasforma copertine di vinili danneggiati in opere d’arte originali. \nIl titolo 33×10 è un gioco di numeri: 33 giri\, simbolo del vinile\, e 10 artisti selezionati per reinterpretare in modo libero e personale un oggetto carico di memoria e valore culturale. \nOgni copertina diventa così una tela unica\, un pezzo irripetibile che racconta una nuova storia visiva\, nata dal passato e proiettata nel futuro. \nL’appuntamento per l’inaugurazione è venerdì 6 giugno alle 18:00 presso Liquid Sound Records di Mendrisio\, un negozio di soli 16 mq ma dall’anima grande\, aperto nel gennaio 2025 per offrire agli amanti della musica uno spazio di incontro\, scoperta e condivisione. \nContatti: liquidsoundrecords2024@gmail.com \n\n\n\n\nSCOPRI IL CATALOGO DELLA MOSTRA
URL:https://creattivati.org/evento/33x10/
LOCATION:Liquid Sound Records\, Largo Mario Soldini 2\, Mendrisio
CATEGORIES:Esposizioni
ATTACH;FMTTYPE=image/jpeg:https://creattivati.org/wp-content/uploads/2025/06/BANNER_sito-copia-1.jpg
END:VEVENT
BEGIN:VEVENT
DTSTART;TZID=Europe/Rome:20251004T170000
DTEND;TZID=Europe/Rome:20251108T100000
DTSTAMP:20260424T123520
CREATED:20250924T100957Z
LAST-MODIFIED:20250924T105019Z
UID:6216-1759597200-1762596000@creattivati.org
SUMMARY:ENSEMBLE
DESCRIPTION:Mostra collettiva dell’Associazione culturale no profit Creattivati a cura di Francesca Caraffini \nArtisti partecipanti: Ileana Benati Mura\, Diego Willy Corna\, Anna Godenzi-Cippà\, Gloria Guidi Nobile\, Lisa Gyongy\, Tiziana Mucchiani Farah\, Lotis Rama\, Paola Rezzonico\, Sonia Vicari \nDal 04.10 all’08.11.2025 \n“Ensemble” è una mostra corale che\, nello spirito di Creattivati\, celebra l’arte come strumento di aggregazione e condivisione. Linguaggi\, visioni e sensibilità diverse si uniscono in un’unica esperienza\, creando un insieme che si compone di opere eterogenee per linguaggi e per tecnica\, secondo la sensibilità che ogni artista apporta all’interno del gruppo.Nove gli artisti che\, in un’alternanza tra pittura\, scultura e illustrazione\, propongono un estratto della loro ricerca artistica. \nInaugurazioneSabato 04 ottobre 2025ore 17:00La Filanda\, Mendrisio \nCon il sostegno de La Filanda\, Mendrisio e della Banca Raiffeisen Mendrisio e VdM. \nLa mostra itinerante proseguirà all’interno degli spazi della Banca Raiffeisen di Mendrisio e VdM\, agenzie di Mendrisio e Rancate.
URL:https://creattivati.org/evento/ensemble/
LOCATION:La Filanda\, Via Industria 5\, Mendrisio\, Ticino\, 6850\, Switzerland
CATEGORIES:Esposizioni,In Evidenza
ATTACH;FMTTYPE=image/jpeg:https://creattivati.org/wp-content/uploads/2025/09/sfondo_gradiente-copia-2-scaled.jpg
END:VEVENT
BEGIN:VEVENT
DTSTART;TZID=Europe/Rome:20251119T170000
DTEND;TZID=Europe/Rome:20260520T100000
DTSTAMP:20260424T123520
CREATED:20251128T111123Z
LAST-MODIFIED:20251128T115040Z
UID:6238-1763571600-1779271200@creattivati.org
SUMMARY:IL RESPIRO TRA LE IMMAGINI
DESCRIPTION:Creattivati\, in collaborazione con l’Hotel Admiral di Lugano\, presenta la mostra “IL RESPIRO TRA LE IMMAGINI” di Lotis Rama.\n«Orbene\, l’organo che percepisce il volto delle cose è il cuore. \nIl pensiero del cuore è fisiognomico. Per percepire deve immaginare. Deve vedere fattezze\, forme\, facce: angeli\, dèmoni\, creature di ogni genere in cose di ogni tipo; e con ciò stesso\, il pensiero del cuore personizza\, infonde anima e anima il mondo.» \n \n    (J. Hillman\, “L’anima del mondo e il pensiero del cuore”)\nQueste tele astratte\, potenti e spontanee\, nate in un profondo mondo onirico\, manifestano l’intuizione\, la Serendipità e il flusso della creazione; la mostra è un percorso che celebra la vitalità intrinseca di ogni gesto artistico. \nIl titolo è una dichiarazione di intenti\, che si ispira all’armonia della musica: proprio come il silenzio tra le note è indispensabile all’orchestra per dare forma e significato\, così la pausa tra un quadro e l’altro è il luogo dove risiede la vita vera della mostra. \nOgni singola “immagine” è intesa come un organismo autonomo\, un “essere” dotato di un proprio spirito. Lo spazio vuoto sulla parete diventa essenziale: è la soglia di silenzio che permette all’osservatore di sentire il battito\, il ritmo di ciascun quadro prima di passare al successivo. \n“Il Respiro tra le Immagini” è un invito alla contemplazione e all’ascolto di quel “Giardino dell’Anima” dove\, come suggeriva Hillman\, la meraviglia risiede nella consapevolezza che tutto è vivo. \nOpere scelte*Da novembre 2025 a maggio 2026Scarica la presentazione e il prezziario (PDF): Lotis Rama “Il respiro tra le immagini Admiral Lugano\nLa mostra è visitabile nella hall dell’Hotel Admiral di Lugano\, Via Geretta 15\, 6900 Lugano  \n\n\n\n\nIl progetto a cura di Francesca Caraffini\, chiude temporaneamente le attività di Creattivati. L’Associazione prende una pausa per ripensare il futuro.  \n\n \n\n\n\n\n\n\n\n 
URL:https://creattivati.org/evento/il-respiro-tra-le-immagini/
LOCATION:https://www.luganohoteladmiral.com/\, Via Geretta 15\, Lugano
CATEGORIES:Esposizioni,In Evidenza
ATTACH;FMTTYPE=image/jpeg:https://creattivati.org/wp-content/uploads/2025/11/Lotis_Rama_Chirarore.jpeg
END:VEVENT
END:VCALENDAR